BEGIN:VCALENDAR
VERSION:2.0
PRODID:-//217.160.0.247//NONSGML kigkonsult.se iCalcreator 2.41.90//
CALSCALE:GREGORIAN
METHOD:PUBLISH
UID:36623236-6333-4533-b065-663632333336
X-WR-CALNAME:Veranstaltungen
X-WR-CALDESC:SHÄV-Veranstaltung
X-WR-TIMEZONE:Europe/Berlin
BEGIN:VEVENT
UID:38636366-3834-4537-b465-613365646666
DTSTAMP:20260421T065535Z
DESCRIPTION:\n\n\n\nWir machen auf folgende KWASA-Veranstaltung aufmerksam 
 und laden herzlich zur Teilnahme ein:\nKostenloses Mittagsformat für Weite
 rbildungsbefugte\n\n\n\n\n\n„Impulsthema: Train-the-trainer  für alle? Die
  SLAEK Module im Fokus (online und Präsenz) – Von rechtlichen Rahmenbeding
 ungen bis Role modeling“\n📅 Mittwoch\, 22.04.\n🕐 13:00–14:00 Uhr\n💻 Online
  & kostenfrei\nDie Veranstaltung bietet kompakte\, praxisnahe Informatione
 n sowie Gelegenheit zum Austausch rund um Fort- und Weiterbildungsfragen i
 m Weiterbildungsalltag.\n👉 Anmeldung unter:\nhttps://allgemeinmedizin-sach
 sen.de/veranstaltung/weiterbildung-kk_220426/?instance_id=504\nWir freuen 
 uns\, wenn Sie dabei sind!
DTSTART:20260422T130000
DTEND:20260422T140000
SUMMARY:SHÄV-Veranstaltung | Veranstaltungsempfehlung: KWASA - Weiterbildun
 g kurz und knackig
END:VEVENT
END:VCALENDAR
