BEGIN:VCALENDAR
VERSION:2.0
PRODID:-//217.160.0.247//NONSGML kigkonsult.se iCalcreator 2.41.90//
CALSCALE:GREGORIAN
METHOD:PUBLISH
UID:65616530-3362-4538-a364-623763383035
X-WR-CALNAME:Booking System
X-WR-CALDESC:SHÄV- Buchbare Veranstaltungen
X-WR-TIMEZONE:Europe/Berlin
BEGIN:VEVENT
UID:62316138-6638-4165-a631-313865323763
DTSTAMP:20260421T065427Z
DESCRIPTION:Raus aus dem Alltag\, Zeit fürs Team:\nBeim 1. Teamfestival in 
 Chemnitz erwarten Sie kurze Workshops\, Austausch auf Augenhöhe und neue I
 deen für Ihren Praxisalltag.\nIn kleinen Gruppen arbeiten Sie gemeinsam an
  relevanten Themen\, lernen voneinander und stärken den Teamgeist – ganz a
 uf Augenhöhe. Im Anschluss lädt ein gemeinsames Abendessen zum entspannten
  Netzwerken und Ausklang ein.
DTSTART:20260506T150000
DTEND:20260506T220000
LOCATION:c/o56 Chemnitz
SUMMARY:SHÄV-Veranstaltung | 1. Teamfestival des Sächsischen Hausärztinnen-
  und Hausärzteverband e.V.
END:VEVENT
END:VCALENDAR
