BEGIN:VCALENDAR
VERSION:2.0
PRODID:-//217.160.0.247//NONSGML kigkonsult.se iCalcreator 2.41.90//
CALSCALE:GREGORIAN
METHOD:PUBLISH
UID:35326336-3063-4262-b935-393862373663
X-WR-CALNAME:Booking System
X-WR-CALDESC:SHÄV- Buchbare Veranstaltungen
X-WR-TIMEZONE:Europe/Berlin
BEGIN:VEVENT
UID:34336662-6263-4435-b634-653531383466
DTSTAMP:20260421T065425Z
DESCRIPTION:Der Wunsch nach regem und wertvollem Erfahrungstausch unter MFA
 's zum Praxisalltag und ständigen Fortbildungsmöglichkeiten ist groß. Wir 
 möchten beides kombinieren und laden zu unserem 20. MFA-Stammtisch nach Ch
 emnitz ein.\nWeitere Informationen finden Sie hier.\nTeilnahmegebühr: 35\,
 00 EUR je MFA\nMaximale Teilnehmerzahl pro Praxis: 2 Personen
DTSTART:20260610T150000
DTEND:20260610T170000
LOCATION:Solaristurm
SUMMARY:SHÄV-Veranstaltung | 20. Sächsischer MFA-Stammtisch (Chemnitz)
END:VEVENT
END:VCALENDAR
